BEGIN:VCALENDAR
X-WR-TIMEZONE:Europe/Berlin
X-WR-CALNAME:rbb-Kalender
VERSION:2.0
METHOD:PUBLISH
CALSCALE:GREGORIAN
PRODID:rbb-CMS DAY
BEGIN:VEVENT
CLASS:PUBLIC
URL:http://www.rbb-online.de/content/rbb/rbb/abendschau/serien/gleich-nebenan/nebenan_geschenkestuebchen.html
DTEND:20140301T200000
DTSTART:20140301T193000
UID:/content/rbb/rbb/abendschau/serien/gleich-nebenan/nebenan_geschenkestuebchen
DTSTAMP:20140405T095347
DESCRIPTION:Seit nunmehr 35 Jahren behauptet sich das Geschenkestübchen Schäfer tapfer gegenüber der Steglitzer Schlossstraße. Das Geschäft in der Kieler Straße 3 führt mehr als nur Geschenke. Auch Kreuze, Kruzifixe, Tauf- und Altarkerzen gehören zum Sortiment – befand sich an dieser Stelle doch einmal ein Devotionaliengeschäft.\n\n\n
SUMMARY:Geschenkestübchen Schäfer 
END:VEVENT
END:VCALENDAR
