BEGIN:VCALENDAR
X-WR-TIMEZONE:Europe/Berlin
X-WR-CALNAME:rbb-Kalender
VERSION:2.0
METHOD:PUBLISH
CALSCALE:GREGORIAN
PRODID:rbb-CMS DAY
BEGIN:VEVENT
CLASS:PUBLIC
URL:http://www.rbb-online.de/content/rbb/rbb/bauer_sucht_kultur/archiv/bauer_sucht_kultur16.html
DTEND:20130718T221500
DTSTART:20130718T221500
UID:/content/rbb/rbb/bauer_sucht_kultur/archiv/bauer_sucht_kultur16
DTSTAMP:20140405T024414
DESCRIPTION:Diesmal ist Max Moor im Norden von Brandenburg unterwegs. Er trifft die Schauspielerin Anna Thalbach in Rheinsberg – und wandelt mit ihr auf den Spuren von Kurt Tucholsky. ...
SUMMARY:Bauer sucht Kultur (2/2013)
END:VEVENT
END:VCALENDAR
