BEGIN:VCALENDAR
X-WR-TIMEZONE:Europe/Berlin
X-WR-CALNAME:rbb-Kalender
VERSION:2.0
METHOD:PUBLISH
CALSCALE:GREGORIAN
PRODID:rbb-CMS DAY
BEGIN:VEVENT
CLASS:PUBLIC
URL:http://www.rbb-online.de/content/rbb/rbb/bauer_sucht_kultur/archiv/bauer_sucht_kultur17.html
DTEND:20130725T221500
DTSTART:20130725T221500
UID:/content/rbb/rbb/bauer_sucht_kultur/archiv/bauer_sucht_kultur17
DTSTAMP:20140405T024455
DESCRIPTION:Zum Auftakt seiner Tour durch den Südwesten Brandenburgs begegnet Max Moor der Sopranistin Mandy Fredrich. Anschließend geht es in Richtung Caputh, dann Trebbin und zurück nach Rädigke.\n
SUMMARY:Bauer sucht Kultur (3/2013)
END:VEVENT
END:VCALENDAR
