BEGIN:VCALENDAR
X-WR-TIMEZONE:Europe/Berlin
X-WR-CALNAME:rbb-Kalender
VERSION:2.0
METHOD:PUBLISH
CALSCALE:GREGORIAN
PRODID:rbb-CMS DAY
BEGIN:VEVENT
CLASS:PUBLIC
URL:http://www.rbb-online.de/content/rbb/rbb/bb-check/machen_sie_mit_/Wie_gut_kennen_Sie_Spandau_.html
DTEND:20140828T000000
DTSTART:20120828T000000
UID:/content/rbb/rbb/bb-check/machen_sie_mit_/Wie_gut_kennen_Sie_Spandau_
DTSTAMP:20140406T060457
DESCRIPTION:Fünf Fragen zum Berliner Bezirk - testen Sie Ihr Wissen!\n
SUMMARY:Wie gut kennen Sie Spandau?
END:VEVENT
END:VCALENDAR
