BEGIN:VCALENDAR
X-WR-TIMEZONE:Europe/Berlin
X-WR-CALNAME:rbb-Kalender
VERSION:2.0
METHOD:PUBLISH
CALSCALE:GREGORIAN
PRODID:rbb-CMS DAY
BEGIN:VEVENT
CLASS:PUBLIC
URL:http://www.rbb-online.de/content/rbb/rbb/bb-check/machen_sie_mit_/Wie_gut_kennen_Sie_die_Oberspreewald-Lausitz_.html
DTEND:20140719T000000
DTSTART:20120719T000000
UID:/content/rbb/rbb/bb-check/machen_sie_mit_/Wie_gut_kennen_Sie_die_Oberspreewald-Lausitz_
DTSTAMP:20140406T060413
DESCRIPTION:Fünf Fragen zum Landkreis - testen Sie Ihr Wissen!\n
SUMMARY:Wie gut kennen Sie den Landkreis Oberspreewald-Lausitz?
END:VEVENT
END:VCALENDAR
