BEGIN:VCALENDAR
X-WR-TIMEZONE:Europe/Berlin
X-WR-CALNAME:rbb-Kalender
VERSION:2.0
METHOD:PUBLISH
CALSCALE:GREGORIAN
PRODID:rbb-CMS DAY
BEGIN:VEVENT
CLASS:PUBLIC
URL:http://www.rbb-online.de/content/rbb/rbb/bb-check/wie_lebt_es_sich_in/berlin-mitte/wie-lebt-es-sich-in-berlin-mitte-.html
DTEND:20140225T210000
DTSTART:20140225T210000
UID:/content/rbb/rbb/bb-check/wie_lebt_es_sich_in/berlin-mitte/wie-lebt-es-sich-in-berlin-mitte-
DTSTAMP:20140405T034757
DESCRIPTION:Der Berlin-Brandenburg Check zeigt einen quicklebendigen und sich ständig verändernden Stadtbezirk - wer in Berlin Mitte lebt, lebt im besten Sinne des Wortes im pulsierenden Zentrum der Stadt.\n
SUMMARY:Wie lebt es sich in Berlin Mitte?
END:VEVENT
END:VCALENDAR
