BEGIN:VCALENDAR
X-WR-TIMEZONE:Europe/Berlin
X-WR-CALNAME:rbb-Kalender
VERSION:2.0
METHOD:PUBLISH
CALSCALE:GREGORIAN
PRODID:rbb-CMS DAY
BEGIN:VEVENT
CLASS:PUBLIC
URL:http://www.rbb-online.de/content/rbb/rbb/bb-check/wie_lebt_es_sich_in/fastfood--schnell--lecker-und-gesund-/fastfood---schnell--lecker-und-gesund-.html
DTEND:20131002T210000
DTSTART:20131002T210000
UID:/content/rbb/rbb/bb-check/wie_lebt_es_sich_in/fastfood--schnell--lecker-und-gesund-/fastfood---schnell--lecker-und-gesund-
DTSTAMP:20140405T034616
DESCRIPTION:Warum stehen wir auf Fastfood? Der Berlin-Brandenburg Check testet die beliebtesten schnellen Snacks der Berlinerinnen und Berliner. Verkostet werden Döner, Currywurst, Erbsensuppe und ein Bio-Burger.\n
SUMMARY:Fastfood - Schnell, lecker und gesund?
END:VEVENT
END:VCALENDAR
