BEGIN:VCALENDAR
X-WR-TIMEZONE:Europe/Berlin
X-WR-CALNAME:rbb-Kalender
VERSION:2.0
METHOD:PUBLISH
CALSCALE:GREGORIAN
PRODID:rbb-CMS DAY
BEGIN:VEVENT
CLASS:PUBLIC
URL:http://www.rbb-online.de/content/rbb/rbb/bb-check/wie_lebt_es_sich_in/lichtenberg/wie-lebt-es-sich-in-lichtenberg.html
DTEND:20130918T210000
DTSTART:20130918T210000
UID:/content/rbb/rbb/bb-check/wie_lebt_es_sich_in/lichtenberg/wie-lebt-es-sich-in-lichtenberg
DTSTAMP:20140405T033712
DESCRIPTION:Lichtenberg - die Gegend hinterm Berliner S-Bahnhof Ostkreuz - wird immer beliebter. Von der Barnimer Feldmark bis zur Großsiedlung Hohenschönhausen ist der Bezirk grün, kinder- und familienfreundlich. \n\n\n
SUMMARY:Wie lebt es sich in Lichtenberg?
END:VEVENT
END:VCALENDAR
