BEGIN:VCALENDAR
X-WR-TIMEZONE:Europe/Berlin
X-WR-CALNAME:rbb-Kalender
VERSION:2.0
METHOD:PUBLISH
CALSCALE:GREGORIAN
PRODID:rbb-CMS DAY
BEGIN:VEVENT
CLASS:PUBLIC
URL:http://www.rbb-online.de/content/rbb/rbb/bb-check/wie_lebt_es_sich_in/marzahn_hellersdorf/wie-lebt-es-sich-in-marzahn-hellersdorf-.html
DTEND:20120912T210000
DTSTART:20120912T210000
UID:/content/rbb/rbb/bb-check/wie_lebt_es_sich_in/marzahn_hellersdorf/wie-lebt-es-sich-in-marzahn-hellersdorf-
DTSTAMP:20140406T062732
DESCRIPTION:Das rbb-Team ist unterwegs in Marzahn-Hellersdorf und will wissen, was dran ist am Vorurteil vom Plattenbaubezirk, der angeblich geprägt ist durch Anonymität, Ostalgie und Fremdenfeindlichkeit.\n\n\n
SUMMARY:Wie lebt es sich in Marzahn-Hellersdorf?
END:VEVENT
END:VCALENDAR
