BEGIN:VCALENDAR
X-WR-TIMEZONE:Europe/Berlin
X-WR-CALNAME:rbb-Kalender
VERSION:2.0
METHOD:PUBLISH
CALSCALE:GREGORIAN
PRODID:rbb-CMS DAY
BEGIN:VEVENT
CLASS:PUBLIC
URL:http://www.rbb-online.de/content/rbb/rbb/bb-check/wie_lebt_es_sich_in/mit-singles-auf-partnersuche/mit-singles-auf-partnersuche.html
DTEND:20131009T210000
DTSTART:20131009T210000
UID:/content/rbb/rbb/bb-check/wie_lebt_es_sich_in/mit-singles-auf-partnersuche/mit-singles-auf-partnersuche
DTSTAMP:20140405T034643
DESCRIPTION:Berlin ist die Hauptstadt der Singles und in Brandenburg leben auch immer mehr Menschen allein. Während manche mit ihrem Leben zufrieden sind, suchen andere einen Partner. Wir testen Gelegenheiten.\n
SUMMARY:Mit Singles auf Partnersuche
END:VEVENT
END:VCALENDAR
