BEGIN:VCALENDAR
X-WR-TIMEZONE:Europe/Berlin
X-WR-CALNAME:rbb-Kalender
VERSION:2.0
METHOD:PUBLISH
CALSCALE:GREGORIAN
PRODID:rbb-CMS DAY
BEGIN:VEVENT
CLASS:PUBLIC
URL:http://www.rbb-online.de/content/rbb/rbb/bb-check/wie_lebt_es_sich_in/oberspreewald_lausitz/wie-lebt-es-sich-in-oberspreewald-lausitz-.html
DTEND:20140401T165000
DTSTART:20140401T160500
UID:/content/rbb/rbb/bb-check/wie_lebt_es_sich_in/oberspreewald_lausitz/wie-lebt-es-sich-in-oberspreewald-lausitz-
DTSTAMP:20140405T033700
DESCRIPTION:Das rbb-Team ist diesmal im Landkreis Oberspreewald-Lausitz unterwegs. Es steuert Lübbenau, Calau und Senftenberg an, um interessante Menschen und erstaunliche Details zu entdecken. Ein Landkreis im Umbruch. Der Berlin-Brandenburg Check erklärt Ihnen Chancen, Risiken und Nebenwirkungen der Entwicklung!\n
SUMMARY:Wie lebt es sich in Oberspreewald-Lausitz?
END:VEVENT
END:VCALENDAR
