BEGIN:VCALENDAR
X-WR-TIMEZONE:Europe/Berlin
X-WR-CALNAME:rbb-Kalender
VERSION:2.0
METHOD:PUBLISH
CALSCALE:GREGORIAN
PRODID:rbb-CMS DAY
BEGIN:VEVENT
CLASS:PUBLIC
URL:http://www.rbb-online.de/content/rbb/rbb/bb-check/wie_lebt_es_sich_in/ostprignitz_ruppin/wie-lebt-es-sich-in-ostprignitz-ruppin-.html
DTEND:20140325T165000
DTSTART:20140325T160500
UID:/content/rbb/rbb/bb-check/wie_lebt_es_sich_in/ostprignitz_ruppin/wie-lebt-es-sich-in-ostprignitz-ruppin-
DTSTAMP:20140405T034747
DESCRIPTION:Der Landkreis Ostprignitz-Ruppin befindet sich im Nordwesten des Landes Brandenburg. Bekannt ist der Landkreis vor allem durch seine touristischen Anziehungspunkte, so - Schloss Rheinsberg, die Stadt Neuruppin, die Geburtsstadt Fontanes, und das Storchendorf Linum. Aber wie lebt es sich dort, wo findet man Arbeit, wie steht es um den Verkehr und wie hoch sind die Mieten?\n
SUMMARY:Wie lebt es sich in Ostprignitz-Ruppin?
END:VEVENT
END:VCALENDAR
