BEGIN:VCALENDAR
X-WR-TIMEZONE:Europe/Berlin
X-WR-CALNAME:rbb-Kalender
VERSION:2.0
METHOD:PUBLISH
CALSCALE:GREGORIAN
PRODID:rbb-CMS DAY
BEGIN:VEVENT
CLASS:PUBLIC
URL:http://www.rbb-online.de/content/rbb/rbb/bb-check/wie_lebt_es_sich_in/potsdam-mittelmark/wie-lebt-es-sich-in-potsdam-mittelmark-.html
DTEND:20130911T210000
DTSTART:20130911T210000
UID:/content/rbb/rbb/bb-check/wie_lebt_es_sich_in/potsdam-mittelmark/wie-lebt-es-sich-in-potsdam-mittelmark-
DTSTAMP:20140405T033101
DESCRIPTION:Der Landkreis ist nicht nur bekannt für den Beelitzer Spargel, die Teltower Rübchen und landschaftlich schöne Gegenden wie Hoher Fläming, Schwielowsee, Baruther Urstromtal oder das mittlere Haveltal. Auch die dichter besiedelten Gebiete wie Kleinmachnow, Stahnsdorf oder Teltow mit vielen mittelständischen Unternehmen prägen den Landkreis. Wie es sich dort lebt, testet "Der Berlin-Brandenburg Check".\n
SUMMARY:Wie lebt es sich in Potsdam-Mittelmark?
END:VEVENT
END:VCALENDAR
