BEGIN:VCALENDAR
X-WR-TIMEZONE:Europe/Berlin
X-WR-CALNAME:rbb-Kalender
VERSION:2.0
METHOD:PUBLISH
CALSCALE:GREGORIAN
PRODID:rbb-CMS DAY
BEGIN:VEVENT
CLASS:PUBLIC
URL:http://www.rbb-online.de/content/rbb/rbb/bb-check/wie_lebt_es_sich_in/spandau/wie-lebt-es-sich-in-spandau-.html
DTEND:20140318T165000
DTSTART:20140318T160500
UID:/content/rbb/rbb/bb-check/wie_lebt_es_sich_in/spandau/wie-lebt-es-sich-in-spandau-
DTSTAMP:20140405T034911
DESCRIPTION:Berlin-Spandau ist ein Stadtbezirk der Gegensätze: Einerseits gehört Spandau mit seinen reizvollen Grün- und Wasserflächen zum Havelland, an vielen Stellen könnte man auf den Gedanken kommen, dass man sich gar nicht mehr in einer Großstadt befindet, andererseits war Spandau über lange Zeit industriell geprägt.\n
SUMMARY:Wie lebt es sich in Spandau?
END:VEVENT
END:VCALENDAR
