BEGIN:VCALENDAR
X-WR-TIMEZONE:Europe/Berlin
X-WR-CALNAME:rbb-Kalender
VERSION:2.0
METHOD:PUBLISH
CALSCALE:GREGORIAN
PRODID:rbb-CMS DAY
BEGIN:VEVENT
CLASS:PUBLIC
URL:http://www.rbb-online.de/content/rbb/rbb/bb-check/wie_lebt_es_sich_in/steglitz-zehlendorf/Steglitz-Zehlendorf.html
DTEND:20140321T165000
DTSTART:20140321T160500
UID:/content/rbb/rbb/bb-check/wie_lebt_es_sich_in/steglitz-zehlendorf/Steglitz-Zehlendorf
DTSTAMP:20140405T034307
DESCRIPTION:Unsere Reporter testen die Lebensqualität im "gehobenen" Berliner Stadtbezirk Steglitz-Zehlendorf. Dort gibt es mehr als großbürgerliche Villen und gediegene Atmosphäre. Der Zehlendorfer Stadtteil Dahlem gilt als "deutsches Oxford". Die Schloß-Straße mit ihrem besonderen Flair ist der Geheimtipp unter den Berliner Einkaufsstraßen.\n\n\n
SUMMARY:Wie lebt es sich in Steglitz-Zehlendorf?
END:VEVENT
END:VCALENDAR
