BEGIN:VCALENDAR
X-WR-TIMEZONE:Europe/Berlin
X-WR-CALNAME:rbb-Kalender
VERSION:2.0
METHOD:PUBLISH
CALSCALE:GREGORIAN
PRODID:rbb-CMS DAY
BEGIN:VEVENT
CLASS:PUBLIC
URL:http://www.rbb-online.de/content/rbb/rbb/bb-check/wie_lebt_es_sich_in/teltow-flaeming/teltow-flaeming.html
DTEND:20140326T165000
DTSTART:20140326T160500
UID:/content/rbb/rbb/bb-check/wie_lebt_es_sich_in/teltow-flaeming/teltow-flaeming
DTSTAMP:20140405T033722
DESCRIPTION:Teltow-Fläming gilt als eine  der erfolgreichsten Regionen Ostdeutschlands. Der Landkreis im Süden Brandenburgs wird oft als "Wirtschaftswunderland" bezeichnet. Die Industrie boomt. Teltow-Fläming kann außerdem stolz auf ein Netz von etwa 500 Wanderwegen und die 230 Kilometer lange Flämingskatestrecke verweisen.\n
SUMMARY:Wie lebt es sich in Teltow-Fläming?
END:VEVENT
END:VCALENDAR
