BEGIN:VCALENDAR
X-WR-TIMEZONE:Europe/Berlin
X-WR-CALNAME:rbb-Kalender
VERSION:2.0
METHOD:PUBLISH
CALSCALE:GREGORIAN
PRODID:rbb-CMS DAY
BEGIN:VEVENT
CLASS:PUBLIC
URL:http://www.rbb-online.de/content/rbb/rbb/bb-check/wie_lebt_es_sich_in/tempelhof-schoeneberg/tempelhof-schoeneberg1.html
DTEND:20140319T160500
DTSTART:20140319T160500
UID:/content/rbb/rbb/bb-check/wie_lebt_es_sich_in/tempelhof-schoeneberg/tempelhof-schoeneberg1
DTSTAMP:20140405T032747
DESCRIPTION:Tempelhof-Schöneberg ist bunt und lebendig. Der Gasometer, das Ullsteinhaus, das KaDeWe, der Tempelhofer Hafen oder die Stadtautobahn – die Summe macht den Reiz aus. "Der Berlin‑Brandenburg Check" testet, wie es sich hier lebt, wie hoch die Mieten sind und wo man einkaufen kann.\n
SUMMARY:Wie lebt es sich in Tempelhof-Schöneberg?
END:VEVENT
END:VCALENDAR
