BEGIN:VCALENDAR
X-WR-TIMEZONE:Europe/Berlin
X-WR-CALNAME:rbb-Kalender
VERSION:2.0
METHOD:PUBLISH
CALSCALE:GREGORIAN
PRODID:rbb-CMS DAY
BEGIN:VEVENT
CLASS:PUBLIC
URL:http://www.rbb-online.de/content/rbb/rbb/beobachter/archiv/thadeusz-und-die-beobachter-20130924.html
DTEND:20130924T221500
DTSTART:20130924T221500
UID:/content/rbb/rbb/beobachter/archiv/thadeusz-und-die-beobachter-20130924
DTSTAMP:20140405T173058
DESCRIPTION:Eine "Nachlese" der Bundestagswahl - Wer hat die Wähler überzeugt? Angela Merkel oder Peer Steinbrück? Zwei Tage nach der Wahl versuchen Elisabeth Niejahr, Claudius Seidl, Ulrike Demmer, Markus Feldenkirchen und Jörg Thadeusz zu bewerten, warum die Gewinner diese Wahl für sich entscheiden konnten.\n\n\n\n\n
SUMMARY:THADEUSZ und die Beobachter
END:VEVENT
END:VCALENDAR
