BEGIN:VCALENDAR
X-WR-TIMEZONE:Europe/Berlin
X-WR-CALNAME:rbb-Kalender
VERSION:2.0
METHOD:PUBLISH
CALSCALE:GREGORIAN
PRODID:rbb-CMS DAY
BEGIN:VEVENT
CLASS:PUBLIC
URL:http://www.rbb-online.de/content/rbb/rbb/beobachter/archiv/thadeusz-und-die-beobachter.html
DTEND:20131119T221500
DTSTART:20131119T221500
UID:/content/rbb/rbb/beobachter/archiv/thadeusz-und-die-beobachter
DTSTAMP:20140405T173120
DESCRIPTION:Sieben Wochen ist die Bundestagswahl nun her, seitdem wird sondiert und verhandelt. Und obwohl noch gar nicht Weihnachten ist, spielen über 200 Politiker von CDU und SPD in zwölf Arbeitsgruppen "Wünsch dir was". Auf dem Wunschzettel stehen Mütterrente, Mindestlohn, Mietpreisbremse, Ausbau der erneuerbaren Energien, Investitionen in Bildung, Verkehr, Rente, Pflege, und sogar die launige Bierzelt-Idee "Ausländermaut" wird ernsthaft besprochen.\n
SUMMARY:THADEUSZ und die Beobachter
END:VEVENT
END:VCALENDAR
