BEGIN:VCALENDAR
X-WR-TIMEZONE:Europe/Berlin
X-WR-CALNAME:rbb-Kalender
VERSION:2.0
METHOD:PUBLISH
CALSCALE:GREGORIAN
PRODID:rbb-CMS DAY
BEGIN:VEVENT
CLASS:PUBLIC
URL:http://www.rbb-online.de/content/rbb/rbb/brandenburgaktuell/7plus/kuenstlerportraet-galerie-bernau.html
DTEND:20140405T200000
DTSTART:20140405T193000
UID:/content/rbb/rbb/brandenburgaktuell/7plus/kuenstlerportraet-galerie-bernau
DTSTAMP:20140408T053039
DESCRIPTION:In unserer Samstags-Serie steht dieses Mal nicht ein Künstler, sondern eine Gruppe Kunstschaffender im Mittelpunkt. Denn in der Galerie Bernau ist das Team das Besondere, aber außergewöhnliche Kunst gibt es auch – mit dem Fahrradschlauch.\n
SUMMARY:Künstlerporträt: Galerie Bernau
END:VEVENT
END:VCALENDAR
