BEGIN:VCALENDAR
X-WR-TIMEZONE:Europe/Berlin
X-WR-CALNAME:rbb-Kalender
VERSION:2.0
METHOD:PUBLISH
CALSCALE:GREGORIAN
PRODID:rbb-CMS DAY
BEGIN:VEVENT
CLASS:PUBLIC
URL:http://www.rbb-online.de/content/rbb/rbb/brandenburgaktuell/7plus/kuenstlerportrait-roland-rother.html
DTEND:20140329T200000
DTSTART:20140329T193000
UID:/content/rbb/rbb/brandenburgaktuell/7plus/kuenstlerportrait-roland-rother
DTSTAMP:20140404T154103
DESCRIPTION:Der Bildhauer ist in Ostbrandenburg mit seinen Arbeiten sehr präsent. Von Roland Rother stammt unter anderem die bekannte Musenstatue vor dem Haus der Künste.\n\n\n
SUMMARY:Künstlerportrait: Roland Rother
END:VEVENT
END:VCALENDAR
