BEGIN:VCALENDAR
X-WR-TIMEZONE:Europe/Berlin
X-WR-CALNAME:rbb-Kalender
VERSION:2.0
METHOD:PUBLISH
CALSCALE:GREGORIAN
PRODID:rbb-CMS DAY
BEGIN:VEVENT
CLASS:PUBLIC
URL:http://www.rbb-online.de/content/rbb/rbb/brandenburgaktuell/archiv/20140329_1930/bernaus-buergermeister-vor-der-abwahl.html
DTEND:20140329T200000
DTSTART:20140329T193000
UID:/content/rbb/rbb/brandenburgaktuell/archiv/20140329_1930/bernaus-buergermeister-vor-der-abwahl
DTSTAMP:20140404T154443
DESCRIPTION:Am Sonntag entscheidet sich das Schicksal von Bernaus Bürgermeister Hubert Handke. Wegen seiner Ablehnung einer Gebührenumstellung steht er seit Monaten in der Kritik. Hintergrund ist der Streit um die sogenannten Altanschließergebühren.\n
SUMMARY:Bernaus Bürgermeister vor der Abwahl?
END:VEVENT
END:VCALENDAR
