BEGIN:VCALENDAR
X-WR-TIMEZONE:Europe/Berlin
X-WR-CALNAME:rbb-Kalender
VERSION:2.0
METHOD:PUBLISH
CALSCALE:GREGORIAN
PRODID:rbb-CMS DAY
BEGIN:VEVENT
CLASS:PUBLIC
URL:http://www.rbb-online.de/content/rbb/rbb/brandenburgaktuell/archiv/20140329_1930/jugend-musiziert.html
DTEND:20140329T200000
DTSTART:20140329T193000
UID:/content/rbb/rbb/brandenburgaktuell/archiv/20140329_1930/jugend-musiziert
DTSTAMP:20140404T155505
DESCRIPTION:Eberswalde ist im Moment Landeshauptstadt - zumindest in Sache Musik: In der Stadt treffen sich die besten Nachwuchsmusiker aus Brandenburg, um im Landeswettbewerb von „Jugend musiziert“ herauszufinden, wer der oder die Beste im Land ist.\n
SUMMARY:Jugend musiziert in Eberswalde
END:VEVENT
END:VCALENDAR
