BEGIN:VCALENDAR
X-WR-TIMEZONE:Europe/Berlin
X-WR-CALNAME:rbb-Kalender
VERSION:2.0
METHOD:PUBLISH
CALSCALE:GREGORIAN
PRODID:rbb-CMS DAY
BEGIN:VEVENT
CLASS:PUBLIC
URL:http://www.rbb-online.de/content/rbb/rbb/brandenburgaktuell/archiv/20140329_1930/vier-pfoten-in-schoenfeld.html
DTEND:20140329T200000
DTSTART:20140329T193000
UID:/content/rbb/rbb/brandenburgaktuell/archiv/20140329_1930/vier-pfoten-in-schoenfeld
DTSTAMP:20140404T154120
DESCRIPTION:Schönefeld ist dieses Wochenende Schauplatz für ein Großereignis: Nicht die Flughafeneröffnung, nein die erste internationale Hundeausstellung auf brandenburgischem Boden findet statt. 5300 Hunde aus ganz Europa sind angereist.\n\n\n
SUMMARY:Vier Pfoten in Schönefeld
END:VEVENT
END:VCALENDAR
