BEGIN:VCALENDAR
X-WR-TIMEZONE:Europe/Berlin
X-WR-CALNAME:rbb-Kalender
VERSION:2.0
METHOD:PUBLISH
CALSCALE:GREGORIAN
PRODID:rbb-CMS DAY
BEGIN:VEVENT
CLASS:PUBLIC
URL:http://www.rbb-online.de/content/rbb/rbb/brandenburgaktuell/archiv/20140330_1930/das-wetter.html
DTEND:20140330T200000
DTSTART:20140330T193000
UID:/content/rbb/rbb/brandenburgaktuell/archiv/20140330_1930/das-wetter
DTSTAMP:20140404T153435
DESCRIPTION:Antenne Brandenburg-Moderator René Hausmann besucht am Sonntag die Wagenburg auf der Insel Hermannswerder.\n
SUMMARY:Das Brandenburgwetter
END:VEVENT
END:VCALENDAR
