BEGIN:VCALENDAR
X-WR-TIMEZONE:Europe/Berlin
X-WR-CALNAME:rbb-Kalender
VERSION:2.0
METHOD:PUBLISH
CALSCALE:GREGORIAN
PRODID:rbb-CMS DAY
BEGIN:VEVENT
CLASS:PUBLIC
URL:http://www.rbb-online.de/content/rbb/rbb/brandenburgaktuell/archiv/20140330_1930/wende-geschichten-birthler.html
DTEND:20140330T200000
DTSTART:20140330T193000
UID:/content/rbb/rbb/brandenburgaktuell/archiv/20140330_1930/wende-geschichten-birthler
DTSTAMP:20140404T154011
DESCRIPTION:In diesem Jahr feiert der Mauerfall sein 25. Jubiläum. Grund für uns einen Blick auf die Wendegeschichten Brandenburgs zu werfen. Am Sonntag ist Marianne Birthler im Studio zu Gast.\n
SUMMARY:Wendegeschichten: Marianne Birthler  
END:VEVENT
END:VCALENDAR
