BEGIN:VCALENDAR
X-WR-TIMEZONE:Europe/Berlin
X-WR-CALNAME:rbb-Kalender
VERSION:2.0
METHOD:PUBLISH
CALSCALE:GREGORIAN
PRODID:rbb-CMS DAY
BEGIN:VEVENT
CLASS:PUBLIC
URL:http://www.rbb-online.de/content/rbb/rbb/brandenburgaktuell/archiv/20140331_1930.html
DTEND:20140331T200000
DTSTART:20140331T193000
UID:/content/rbb/rbb/brandenburgaktuell/archiv/20140331_1930
DTSTAMP:20140404T153331
DESCRIPTION:+++ Nachtflugverbot: Woidke knickt ein +++ Bürgermeisterabwahl: Bernau am Tag danach +++ 10 Jahre Medienboard +++ Lokalderby: Union gegen Energie +++ Vorgestellt: Fahrradabenteurer Sven Duschka +++ Das Brandenburgwetter +++\n\n\n
SUMMARY:Brandenburg aktuell 31.03.2014 19:30
END:VEVENT
END:VCALENDAR
