BEGIN:VCALENDAR
X-WR-TIMEZONE:Europe/Berlin
X-WR-CALNAME:rbb-Kalender
VERSION:2.0
METHOD:PUBLISH
CALSCALE:GREGORIAN
PRODID:rbb-CMS DAY
BEGIN:VEVENT
CLASS:PUBLIC
URL:http://www.rbb-online.de/content/rbb/rbb/brandenburgaktuell/archiv/20140331_1930/cottbuser-abstiegskampf-im-lokalderby.html
DTEND:20140331T200000
DTSTART:20140331T193000
UID:/content/rbb/rbb/brandenburgaktuell/archiv/20140331_1930/cottbuser-abstiegskampf-im-lokalderby
DTSTAMP:20140404T153410
DESCRIPTION:Am Montag steht das Brandenburg-Berlin-Derby zwischen Energie Cottbus und Union Berlin im Spielplan der 2. Bundesliga. Während es für Union im sicheren Mittelfeld wohl um nichts mehr geht, zählt für Energie jeder Punkt, um noch auf den Klassenerhalt hoffen zu können.\n
SUMMARY:Cottbuser Abstiegskampf im Lokalderby
END:VEVENT
END:VCALENDAR
