BEGIN:VCALENDAR
X-WR-TIMEZONE:Europe/Berlin
X-WR-CALNAME:rbb-Kalender
VERSION:2.0
METHOD:PUBLISH
CALSCALE:GREGORIAN
PRODID:rbb-CMS DAY
BEGIN:VEVENT
CLASS:PUBLIC
URL:http://www.rbb-online.de/content/rbb/rbb/brandenburgaktuell/archiv/20140331_1930/filmstandort-berlin-brandenburg-ist-die-nummer-eins.html
DTEND:20140331T200000
DTSTART:20140331T193000
UID:/content/rbb/rbb/brandenburgaktuell/archiv/20140331_1930/filmstandort-berlin-brandenburg-ist-die-nummer-eins
DTSTAMP:20140404T155149
DESCRIPTION:Monuments Men mit George Clooney - The Grand Budapest Hotel - Die Bücherdiebin. Das sind nur die letzten Großproduktionen in Brandenburg. Seit 2004 fördert das Medienboard Berlin-Brandenburg Filme und konnte mit 240 Millionen Euro etwa 2000 Projekte anlocken. Aber wer profitiert?\n
SUMMARY:Filmstandort Berlin-Brandenburg ist die Nummer Eins
END:VEVENT
END:VCALENDAR
