BEGIN:VCALENDAR
X-WR-TIMEZONE:Europe/Berlin
X-WR-CALNAME:rbb-Kalender
VERSION:2.0
METHOD:PUBLISH
CALSCALE:GREGORIAN
PRODID:rbb-CMS DAY
BEGIN:VEVENT
CLASS:PUBLIC
URL:http://www.rbb-online.de/content/rbb/rbb/brandenburgaktuell/archiv/20140331_1930/nachrichten-eins.html
DTEND:20140331T200000
DTSTART:20140331T193000
UID:/content/rbb/rbb/brandenburgaktuell/archiv/20140331_1930/nachrichten-eins
DTSTAMP:20140404T155123
DESCRIPTION:+++ Dritte Tarifrunde für öffentlichen Dienst +++ Aleo Solar stellt Produktion in Prenzlau ein +++ Taxifahrten vom Flughafen Schöänefeld sollen teurer werden +++ Brandenburg verdrängt DDR-Vergangenheit +++\n\n\n
SUMMARY:Nachrichten I
END:VEVENT
END:VCALENDAR
