BEGIN:VCALENDAR
X-WR-TIMEZONE:Europe/Berlin
X-WR-CALNAME:rbb-Kalender
VERSION:2.0
METHOD:PUBLISH
CALSCALE:GREGORIAN
PRODID:rbb-CMS DAY
BEGIN:VEVENT
CLASS:PUBLIC
URL:http://www.rbb-online.de/content/rbb/rbb/brandenburgaktuell/archiv/20140331_1930/woidke-knickt-ein.html
DTEND:20140331T200000
DTSTART:20140331T193000
UID:/content/rbb/rbb/brandenburgaktuell/archiv/20140331_1930/woidke-knickt-ein
DTSTAMP:20140404T155225
DESCRIPTION:Ministerpräsident Dietmar Woidke (SPD) will sich in den Verhandlungen mit dem Bund und Berlin nur noch für ein um eine Stunde längeres Nachtflugverbot von 0 bis 6 Uhr einsetzen. Mit dieser Ankündigung steht Woidke nun zwischen Wirtschaftsinteressen und seinem Landesparlament.\n
SUMMARY:Knickt Woidke ein?
END:VEVENT
END:VCALENDAR
