BEGIN:VCALENDAR
X-WR-TIMEZONE:Europe/Berlin
X-WR-CALNAME:rbb-Kalender
VERSION:2.0
METHOD:PUBLISH
CALSCALE:GREGORIAN
PRODID:rbb-CMS DAY
BEGIN:VEVENT
CLASS:PUBLIC
URL:http://www.rbb-online.de/content/rbb/rbb/brandenburgaktuell/archiv/20140401_1930.html
DTEND:20140401T200000
DTSTART:20140401T193000
UID:/content/rbb/rbb/brandenburgaktuell/archiv/20140401_1930
DTSTAMP:20140404T153917
DESCRIPTION:+++ Tarifeinigung im öffentlichen Dienst +++ Vor dem Lufthansa-Streik +++ Prozess um totes Baby +++ Horrotrip im Schulbus +++ Ausstellung über die "Sportverräter" +++ Versenkte Hafen-Investitionen +++ Die Farben des Brandenburger Adlers +++ Das Brandenburgwetter mit der Aufräumaktion +++\n\n\n
SUMMARY:Brandenburg aktuell 01.04.2014 19:30
END:VEVENT
END:VCALENDAR
