BEGIN:VCALENDAR
X-WR-TIMEZONE:Europe/Berlin
X-WR-CALNAME:rbb-Kalender
VERSION:2.0
METHOD:PUBLISH
CALSCALE:GREGORIAN
PRODID:rbb-CMS DAY
BEGIN:VEVENT
CLASS:PUBLIC
URL:http://www.rbb-online.de/content/rbb/rbb/brandenburgaktuell/archiv/20140401_1930/news2.html
DTEND:20140401T200000
DTSTART:20140401T193000
UID:/content/rbb/rbb/brandenburgaktuell/archiv/20140401_1930/news2
DTSTAMP:20140404T153811
DESCRIPTION:+++ Angst bei Zugreisenden +++ Überarbeiteter Windpakr-Plan für die Uckermark +++ Pharmakonzern will Standort in Oranienburg ausbauen +++ Weniger Arbeitslose in Brandenburg +++ Niederlage von Energie Cottbus gegen Union Berlin +++\n\n\n
SUMMARY:Nachrichten II
END:VEVENT
END:VCALENDAR
