BEGIN:VCALENDAR
X-WR-TIMEZONE:Europe/Berlin
X-WR-CALNAME:rbb-Kalender
VERSION:2.0
METHOD:PUBLISH
CALSCALE:GREGORIAN
PRODID:rbb-CMS DAY
BEGIN:VEVENT
CLASS:PUBLIC
URL:http://www.rbb-online.de/content/rbb/rbb/brandenburgaktuell/archiv/20140401_1930/sportverraeter.html
DTEND:20140401T200000
DTSTART:20140401T193000
UID:/content/rbb/rbb/brandenburgaktuell/archiv/20140401_1930/sportverraeter
DTSTAMP:20140404T153344
DESCRIPTION:Wolfgang Thüne war Spitzenturner beim Armeesportklub in Potsdam. Bei den Olympischen Spielen 1972 holte er eine Bronzemedaille. Zuwenig für die DDR-Führung: Sie setzte Wolfgang Thüne unter Druck. Der setzte sich 1975 in den Westen ab - mit Unterstützung des westdeutschen Weltmeisters Eberhard Gienger floh er über die Schweiz in die Bundesrepublik.\n\n\n
SUMMARY:Ausstellung über die "Sportverräter"
END:VEVENT
END:VCALENDAR
