BEGIN:VCALENDAR
X-WR-TIMEZONE:Europe/Berlin
X-WR-CALNAME:rbb-Kalender
VERSION:2.0
METHOD:PUBLISH
CALSCALE:GREGORIAN
PRODID:rbb-CMS DAY
BEGIN:VEVENT
CLASS:PUBLIC
URL:http://www.rbb-online.de/content/rbb/rbb/brandenburgaktuell/archiv/20140401_1930/wetter.html
DTEND:20140401T200000
DTSTART:20140401T193000
UID:/content/rbb/rbb/brandenburgaktuell/archiv/20140401_1930/wetter
DTSTAMP:20140404T155943
DESCRIPTION:In Angermünde (Uckermark) ist Wetterreporterin Ulrike Finck mit der Straßenreinigung beim Müllsammeln unterwegs. Insgesamt 300 Kilometer Strecke beräumen die Mitarbeiter. Rund 500 Säcke kommen zusammen.\n\n\n
SUMMARY:Das Brandenburgwetter mit der Aufräumaktion
END:VEVENT
END:VCALENDAR
