BEGIN:VCALENDAR
X-WR-TIMEZONE:Europe/Berlin
X-WR-CALNAME:rbb-Kalender
VERSION:2.0
METHOD:PUBLISH
CALSCALE:GREGORIAN
PRODID:rbb-CMS DAY
BEGIN:VEVENT
CLASS:PUBLIC
URL:http://www.rbb-online.de/content/rbb/rbb/brandenburgaktuell/archiv/20140402_1930/einigung-auf-abschlussbericht.html
DTEND:20140402T200000
DTSTART:20140402T193000
UID:/content/rbb/rbb/brandenburgaktuell/archiv/20140402_1930/einigung-auf-abschlussbericht
DTSTAMP:20140404T154005
DESCRIPTION:Über alle Parteigrenzen hat sich die Enquete-Kommission zur Aufarbeitung der SED Diktatur auf einen Abschlussbericht geeinigt. Vier Jahre hat ihre Arbeit gedauert und das Ergebnis hält viele Hausaufgaben für die Landesregierung bereit.\n
SUMMARY:Einigung auf Abschlussbericht
END:VEVENT
END:VCALENDAR
