BEGIN:VCALENDAR
X-WR-TIMEZONE:Europe/Berlin
X-WR-CALNAME:rbb-Kalender
VERSION:2.0
METHOD:PUBLISH
CALSCALE:GREGORIAN
PRODID:rbb-CMS DAY
BEGIN:VEVENT
CLASS:PUBLIC
URL:http://www.rbb-online.de/content/rbb/rbb/brandenburgaktuell/archiv/20140402_1930/grabschaendung-in-perleberg.html
DTEND:20140402T200000
DTSTART:20140402T193000
UID:/content/rbb/rbb/brandenburgaktuell/archiv/20140402_1930/grabschaendung-in-perleberg
DTSTAMP:20140404T155929
DESCRIPTION:Der Perleberger Waldfriedhof wird regelmäßig von Metalldieben geplündert. Grabkreuze, Skulpturen und künstlerisch wertvolle alte Einfriedungen verschwinden spurlos. Zurück bleiben die verzweifelten Angehörigen.\n
SUMMARY:Grabschändungen in Perleberg
END:VEVENT
END:VCALENDAR
