BEGIN:VCALENDAR
X-WR-TIMEZONE:Europe/Berlin
X-WR-CALNAME:rbb-Kalender
VERSION:2.0
METHOD:PUBLISH
CALSCALE:GREGORIAN
PRODID:rbb-CMS DAY
BEGIN:VEVENT
CLASS:PUBLIC
URL:http://www.rbb-online.de/content/rbb/rbb/brandenburgaktuell/archiv/20140402_1930/nachrichten-zwei.html
DTEND:20140402T200000
DTSTART:20140402T193000
UID:/content/rbb/rbb/brandenburgaktuell/archiv/20140402_1930/nachrichten-zwei
DTSTAMP:20140404T153406
DESCRIPTION:+++ Brückenschlag über die Havel +++ Osterbasar mit Produkten aus dem Strafvollzug +++ Verstorbener Zuchthengst bekommt Nachwuchs +++\n\n\n
SUMMARY:Nachrichten II
END:VEVENT
END:VCALENDAR
