BEGIN:VCALENDAR
X-WR-TIMEZONE:Europe/Berlin
X-WR-CALNAME:rbb-Kalender
VERSION:2.0
METHOD:PUBLISH
CALSCALE:GREGORIAN
PRODID:rbb-CMS DAY
BEGIN:VEVENT
CLASS:PUBLIC
URL:http://www.rbb-online.de/content/rbb/rbb/brandenburgaktuell/archiv/20140403_1930/4.html
DTEND:20140403T200000
DTSTART:20140403T193000
UID:/content/rbb/rbb/brandenburgaktuell/archiv/20140403_1930/4
DTSTAMP:20140404T154136
DESCRIPTION:In vielen Städten und Gemeinden muss gespart werden. Bei den einen werden Schwimmbäder geschlossen, bei anderen wird an den Sportvereinen gekürzt oder ein Museum dicht gemacht.\n\n\n
SUMMARY:Stadtbibliothek Rathenow
END:VEVENT
END:VCALENDAR
