BEGIN:VCALENDAR
X-WR-TIMEZONE:Europe/Berlin
X-WR-CALNAME:rbb-Kalender
VERSION:2.0
METHOD:PUBLISH
CALSCALE:GREGORIAN
PRODID:rbb-CMS DAY
BEGIN:VEVENT
CLASS:PUBLIC
URL:http://www.rbb-online.de/content/rbb/rbb/brandenburgaktuell/archiv/20140403_1930/5.html
DTEND:20140403T200000
DTSTART:20140403T193000
UID:/content/rbb/rbb/brandenburgaktuell/archiv/20140403_1930/5
DTSTAMP:20140404T153953
DESCRIPTION:Der neue rbb Polizeiruf 110 ist fertig geschnitten. Bis er allerdings im Fernsehen zu sehen ist, dauert es noch ein paar Tage.\n\n\n
SUMMARY:Preview von Polizeiruf
END:VEVENT
END:VCALENDAR
