BEGIN:VCALENDAR
X-WR-TIMEZONE:Europe/Berlin
X-WR-CALNAME:rbb-Kalender
VERSION:2.0
METHOD:PUBLISH
CALSCALE:GREGORIAN
PRODID:rbb-CMS DAY
BEGIN:VEVENT
CLASS:PUBLIC
URL:http://www.rbb-online.de/content/rbb/rbb/brandenburgaktuell/archiv/20140403_1930/7.html
DTEND:20140403T200000
DTSTART:20140403T193000
UID:/content/rbb/rbb/brandenburgaktuell/archiv/20140403_1930/7
DTSTAMP:20140404T153429
DESCRIPTION:Eine Lange Radtour oder Wanderung durch Brandenburg - vielleicht ein Ausflugs-Tipp für das kommende Wochenende.\n\n\n
SUMMARY:Berlin-Tipp: Frühlingsfest
END:VEVENT
END:VCALENDAR
