BEGIN:VCALENDAR
X-WR-TIMEZONE:Europe/Berlin
X-WR-CALNAME:rbb-Kalender
VERSION:2.0
METHOD:PUBLISH
CALSCALE:GREGORIAN
PRODID:rbb-CMS DAY
BEGIN:VEVENT
CLASS:PUBLIC
URL:http://www.rbb-online.de/content/rbb/rbb/brandenburgaktuell/archiv/20140403_1930/berlin-tipp-fruehlingsfest-oder-bikinihaus.html
DTEND:20140403T200000
DTSTART:20140403T193000
UID:/content/rbb/rbb/brandenburgaktuell/archiv/20140403_1930/berlin-tipp-fruehlingsfest-oder-bikinihaus
DTSTAMP:20140407T101448
DESCRIPTION:Das Wochenende ist nicht mehr weit. Da bietet sich eine Lange Radtour oder Wanderung durch Brandenburg an oder vielleicht ein Besuch in der Hauptstadt.\n\n\n
SUMMARY:Berlin-Tipp: Frühlingsfest oder Bikinihaus?
END:VEVENT
END:VCALENDAR
