BEGIN:VCALENDAR
X-WR-TIMEZONE:Europe/Berlin
X-WR-CALNAME:rbb-Kalender
VERSION:2.0
METHOD:PUBLISH
CALSCALE:GREGORIAN
PRODID:rbb-CMS DAY
BEGIN:VEVENT
CLASS:PUBLIC
URL:http://www.rbb-online.de/content/rbb/rbb/brandenburgaktuell/archiv/20140404_1930/das-ausflugswetter.html
DTEND:20140404T200000
DTSTART:20140404T193000
UID:/content/rbb/rbb/brandenburgaktuell/archiv/20140404_1930/das-ausflugswetter
DTSTAMP:20140407T231611
DESCRIPTION:In dieser Ausgabe unserer Frühjahrputz-Serie führt es unsere Reporterin zum größten natürlichen See in Brandenburg – am Rande des Spreewalds. Der Schwielochsee. Dort hat unsere Wetterreporterin richtig mit angepackt.\n\n\n
SUMMARY:Das Ausflugswetter
END:VEVENT
END:VCALENDAR
