BEGIN:VCALENDAR
X-WR-TIMEZONE:Europe/Berlin
X-WR-CALNAME:rbb-Kalender
VERSION:2.0
METHOD:PUBLISH
CALSCALE:GREGORIAN
PRODID:rbb-CMS DAY
BEGIN:VEVENT
CLASS:PUBLIC
URL:http://www.rbb-online.de/content/rbb/rbb/brandenburgaktuell/archiv/20140404_1930/die-foerderung-syrischer-fluechtlinge.html
DTEND:20140404T200000
DTSTART:20140404T193000
UID:/content/rbb/rbb/brandenburgaktuell/archiv/20140404_1930/die-foerderung-syrischer-fluechtlinge
DTSTAMP:20140407T231522
DESCRIPTION:In Brandenburg leben mehr als 300 syrische Flüchtlinge. Einige davon sind sogenannte „Kontingentflüchtlinge“. Diese müssen nicht das übliche sehr langwierige Asylverfahren durchlaufen.\n\n\n
SUMMARY:Die Förderung syrischer Flüchtinge
END:VEVENT
END:VCALENDAR
