BEGIN:VCALENDAR
X-WR-TIMEZONE:Europe/Berlin
X-WR-CALNAME:rbb-Kalender
VERSION:2.0
METHOD:PUBLISH
CALSCALE:GREGORIAN
PRODID:rbb-CMS DAY
BEGIN:VEVENT
CLASS:PUBLIC
URL:http://www.rbb-online.de/content/rbb/rbb/brandenburgaktuell/archiv/20140404_1930/lehrerparadies-brandenburg.html
DTEND:20140404T200000
DTSTART:20140404T193000
UID:/content/rbb/rbb/brandenburgaktuell/archiv/20140404_1930/lehrerparadies-brandenburg
DTSTAMP:20140407T231431
DESCRIPTION:Brandenburg hat viel Geld investiert, um per Anzeigen bundesweit nach Lehrern zu suchen. Tausende Bewerbungen sollen eingegangen sein. Lehrer und Lehrernachwuchs aus dem eigenen Land meckern.\n\n
SUMMARY:Lehrerparadies Brandenburg?
END:VEVENT
END:VCALENDAR
