BEGIN:VCALENDAR
X-WR-TIMEZONE:Europe/Berlin
X-WR-CALNAME:rbb-Kalender
VERSION:2.0
METHOD:PUBLISH
CALSCALE:GREGORIAN
PRODID:rbb-CMS DAY
BEGIN:VEVENT
CLASS:PUBLIC
URL:http://www.rbb-online.de/content/rbb/rbb/brandenburgaktuell/archiv/20140404_1930/urteil-im-frederic-prozess.html
DTEND:20140404T200000
DTSTART:20140404T193000
UID:/content/rbb/rbb/brandenburgaktuell/archiv/20140404_1930/urteil-im-frederic-prozess
DTSTAMP:20140407T231535
DESCRIPTION:Dagmar Frederic unterliegt im langjährigen Erbstreit. Das Landgericht Frankfurt (Oder) hat die Entertainerin verurteilt. Frederic muss 176.000 Euro inklusive Zinsen an den Staat zurückzahlen.\n\n\n
SUMMARY:Urteil im Frederic-Prozess
END:VEVENT
END:VCALENDAR
