BEGIN:VCALENDAR
X-WR-TIMEZONE:Europe/Berlin
X-WR-CALNAME:rbb-Kalender
VERSION:2.0
METHOD:PUBLISH
CALSCALE:GREGORIAN
PRODID:rbb-CMS DAY
BEGIN:VEVENT
CLASS:PUBLIC
URL:http://www.rbb-online.de/content/rbb/rbb/brandenburgaktuell/archiv/20140405_1930/nachrichten-eins.html
DTEND:20140405T200000
DTSTART:20140405T193000
UID:/content/rbb/rbb/brandenburgaktuell/archiv/20140405_1930/nachrichten-eins
DTSTAMP:20140408T053059
DESCRIPTION:+++ Tödlicher Unfall auf der A12: Polizei trägt keine Schuld +++ Weitere tödliche Unfälle auf Brandenburgs Straßen +++ Benefiz-Festival für Jungen im Wachkoma +++ Piraten wollen Baustopp am BER +++ Anstaken im Spreewald +++\n\n\n
SUMMARY:Nachrichten I
END:VEVENT
END:VCALENDAR
