BEGIN:VCALENDAR
X-WR-TIMEZONE:Europe/Berlin
X-WR-CALNAME:rbb-Kalender
VERSION:2.0
METHOD:PUBLISH
CALSCALE:GREGORIAN
PRODID:rbb-CMS DAY
BEGIN:VEVENT
CLASS:PUBLIC
URL:http://www.rbb-online.de/content/rbb/rbb/brandenburgaktuell/archiv/20140408_1930/baufortschritt-am-ber.html
DTEND:20140408T200000
DTSTART:20140408T193000
UID:/content/rbb/rbb/brandenburgaktuell/archiv/20140408_1930/baufortschritt-am-ber
DTSTAMP:20140409T012837
DESCRIPTION:Wenn es um den Baufortschritt am neuen Großflughafen in Schönefeld geht, dann gibt es mehr Fragen als Antwort. Nach langer Zeit wurden am Mittwoch erstmals wieder Reporter auf die Baustelle gelassen. Für Brandenburg aktuell war Thomas Bittner vor Ort.\n
SUMMARY:Baufortschritt am BER?
END:VEVENT
END:VCALENDAR
