BEGIN:VCALENDAR
X-WR-TIMEZONE:Europe/Berlin
X-WR-CALNAME:rbb-Kalender
VERSION:2.0
METHOD:PUBLISH
CALSCALE:GREGORIAN
PRODID:rbb-CMS DAY
BEGIN:VEVENT
CLASS:PUBLIC
URL:http://www.rbb-online.de/content/rbb/rbb/brandenburgaktuell/archiv/20140408_1930/das-brandenburgwetter.html
DTEND:20140408T200000
DTSTART:20140408T193000
UID:/content/rbb/rbb/brandenburgaktuell/archiv/20140408_1930/das-brandenburgwetter
DTSTAMP:20140409T012752
DESCRIPTION:Rund 400 kleine Störe setzt am Dienstag Wetterreporter Attila Weidemann im Nationalpark Unteres Odertal in den Grenzfluss. In ihre angestammte Heimat entlassen werden sie mit einer speziellen Marke.\n
SUMMARY:Das Brandenburgwetter
END:VEVENT
END:VCALENDAR
