BEGIN:VCALENDAR
X-WR-TIMEZONE:Europe/Berlin
X-WR-CALNAME:rbb-Kalender
VERSION:2.0
METHOD:PUBLISH
CALSCALE:GREGORIAN
PRODID:rbb-CMS DAY
BEGIN:VEVENT
CLASS:PUBLIC
URL:http://www.rbb-online.de/content/rbb/rbb/brandenburgaktuell/archiv/nach-dem-mail-datenklau/behindertenwerkstatt.html
DTEND:20140407T200000
DTSTART:20140407T193000
UID:/content/rbb/rbb/brandenburgaktuell/archiv/nach-dem-mail-datenklau/behindertenwerkstatt
DTSTAMP:20140408T111750
DESCRIPTION:Etwa 5000 Aussteller aus 65 Ländern beteiligen sich an der Hannover-Messe, damit ist sie die weltgrößte Industrie-Schau. Auch 38 Brandenburger Firmen zeigen hier ihren Pioniergeist. Wie die Schönfließer Nordbahn- GmbH, die alles andere als ein klassisches Wirtschaftsunternehmen ist. Für die gemeinnützige Behindertenwerkstatt ist die Messe troztdem jedes Jahr ein Pflichttermin.\n\n\n
SUMMARY:Behindertenwerkstatt auf der Hannover-Messe
END:VEVENT
END:VCALENDAR
